BEGIN:VCALENDAR
VERSION:2.0
PRODID:-//pretix//pretix.eu//
BEGIN:VTIMEZONE
TZID:Europe/Berlin
BEGIN:STANDARD
DTSTART:20001029T040000
RRULE:FREQ=YEARLY;BYDAY=-1SU;BYMONTH=10
TZNAME:CET
TZOFFSETFROM:+0200
TZOFFSETTO:+0100
END:STANDARD
BEGIN:DAYLIGHT
DTSTART:20000326T030000
RRULE:FREQ=YEARLY;BYDAY=-1SU;BYMONTH=3
TZNAME:CEST
TZOFFSETFROM:+0100
TZOFFSETTO:+0200
END:DAYLIGHT
END:VTIMEZONE
BEGIN:VEVENT
UID:pretix-netzwerk-freunde-netzwerk-4822072@tickets.netzwerk-freunde.de
DTSTART;TZID=Europe/Berlin:20260325T183000
DTEND;TZID=Europe/Berlin:20260325T213000
DESCRIPTION:Tickets: https://tickets.netzwerk-freunde.de/netzwerk/4822072/\
 nVeranstalter: Netzwerk Freunde
DTSTAMP:20260421T084226Z
LOCATION:Autohaus Widmann GmbH & Co.KG\,\, Gewerbegebiet Schafhof Ost\,\, M
 ercedesstraße 7\,\, 92263 Ebermannsdorf
SUMMARY:KI-EVENT für Unternehmer: Klar. Verständlich. Umsetzbar.
END:VEVENT
END:VCALENDAR
